BEGIN:VCALENDAR
VERSION:2.0
PRODID:-//UCLF - ECPv6.15.15//NONSGML v1.0//EN
CALSCALE:GREGORIAN
METHOD:PUBLISH
X-ORIGINAL-URL:https://uclf.org
X-WR-CALDESC:Évènements pour UCLF
REFRESH-INTERVAL;VALUE=DURATION:PT1H
X-Robots-Tag:noindex
X-PUBLISHED-TTL:PT1H
BEGIN:VTIMEZONE
TZID:Europe/Paris
BEGIN:DAYLIGHT
TZOFFSETFROM:+0100
TZOFFSETTO:+0200
TZNAME:CEST
DTSTART:20220327T010000
END:DAYLIGHT
BEGIN:STANDARD
TZOFFSETFROM:+0200
TZOFFSETTO:+0100
TZNAME:CET
DTSTART:20221030T010000
END:STANDARD
BEGIN:DAYLIGHT
TZOFFSETFROM:+0100
TZOFFSETTO:+0200
TZNAME:CEST
DTSTART:20230326T010000
END:DAYLIGHT
BEGIN:STANDARD
TZOFFSETFROM:+0200
TZOFFSETTO:+0100
TZNAME:CET
DTSTART:20231029T010000
END:STANDARD
BEGIN:DAYLIGHT
TZOFFSETFROM:+0100
TZOFFSETTO:+0200
TZNAME:CEST
DTSTART:20240331T010000
END:DAYLIGHT
BEGIN:STANDARD
TZOFFSETFROM:+0200
TZOFFSETTO:+0100
TZNAME:CET
DTSTART:20241027T010000
END:STANDARD
END:VTIMEZONE
BEGIN:VEVENT
DTSTART;TZID=Europe/Paris:20230718T183000
DTEND;TZID=Europe/Paris:20230718T183000
DTSTAMP:20260423T080029
CREATED:20230629T075740Z
LAST-MODIFIED:20230629T081012Z
UID:87202-1689705000-1689705000@uclf.org
SUMMARY:Fêtes patronales
DESCRIPTION:Nos saints patrons nous invitent à nous convertir encore et toujours\, pour que règne en nous et par nos bonnes œuvres le Sacré-Coeur de Notre-Seigneur Jésus-Christ. Venez nombreux avec vos familles et amis !\n\n\nDurant la neuvaine de Saint Vincent de Paul\, fêté le 19 juillet \n\nProgramme\n18 h 30 : Messe selon le rit traditionnel célébrée en l’église de Garons\n19 h 30 : Rafraîchissements\n20 h 00 : Récollection
URL:https://uclf.org/events/messe-et-recollection/
LOCATION:Garons\, Garons\, 30125\, France
CATEGORIES:Messe,Récollection
ATTACH;FMTTYPE=image/jpeg:https://uclf.org/wp-content/uploads/2023/06/Saint-Vincent-de-Paul-e1688026120369.jpeg
END:VEVENT
END:VCALENDAR